BEGIN:VCALENDAR
VERSION:2.0
METHOD:PUBLISH
PRODID:-//hacksw/handcal//NONSGML v1.0//EN
BEGIN:VEVENT
DTSTAMP:20260420T021056Z
DTSTART:20260507T183000Z
DTEND:20260507T183000Z
UID:20260507T183000Z-20260507T183000Z-2296@www.regiosalsa.de
SUMMARY:Surf and Salsa
DESCRIPTION:Ab Do\, 30. April 2026 geht e wieder los mit dem Surf and 
 Salsa Thursday - eine Kooperation der AyA Dance Academy Freiburg mit d
 em Irie Surf Club!\n\nAnschließend Salsa & Bachata Party 🙂\nWo?: Irie-
 Surf\, Hermann-Mitsch-Starße 13a – direkt bei der Straßenbahn-Halteste
 lle Messe auf dem Parkplatz neben dem XXXLutz
X-ALT-DESC;FMTTYPE=text/html:<p>Ab Do\, 30. April 2026 geht e wieder l
 os mit dem Surf and Salsa Thursday &#8211\; eine Kooperation der AyA D
 ance Academy Freiburg mit dem Irie Surf Club!</p>\n<p>Anschließend Sal
 sa &amp\; Bachata Party 🙂<br>\nWo?: Irie-Surf\, Hermann-Mitsch-Starße 
 13a – direkt bei der Straßenbahn-Haltestelle Messe auf dem Parkplatz n
 eben dem XXXLutz</p>\n
URL:https://www.regiosalsa.de/events/surf-and-salsa-2/?lang=de
ATTACH:https://www.regiosalsa.de/events/surf-and-salsa-2/?lang=de
ATTACH:https://www.regiosalsa.de/wp-content/uploads/sites/14/2026/03/A
 YAIrie-SurfSalsa-Thursdays_2026-270x300.png
LOCATION:Irie Surf\, Hermann-Mitsch-Strasse 13a\, Freiburg
END:VEVENT
END:VCALENDAR
