BEGIN:VCALENDAR
VERSION:2.0
METHOD:PUBLISH
PRODID:-//hacksw/handcal//NONSGML v1.0//EN
BEGIN:VEVENT
DTSTAMP:20260423T092823Z
DTSTART;VALUE=DATE:20250711
DTEND;VALUE=DATE:20250714
UID:20250710T220000Z-20250713T215959Z-1652@www.regiosalsa.de
SUMMARY:Strasbourg Bachata Festival
DESCRIPTION:LADIES & GENTLEMEN... GET READY! 🌟\nThe biggest and most e
 xciting Bachata Festival in the heart of Europe is back: SBF2025! 🔥\n3
  unforgettable days of workshops\, shows\, parties\, concerts\, compet
 itions and good vibes! 🔥\nWhether you’re a beginner or a pro\, this is
  YOUR festival!\n💃 DISCOVER THE FULL BACHATA UNIVERSE 🕺\nDuring the fe
 stival\, dive into every style of Bachata with world-renowned instruct
 ors:\n✅ Bachata Sensual\n✅ Dominican Bachata\n✅ Urban Bachata\n✅ Moder
 n Bachata\n✅ Bachata Zouk\n✅ Bachata Tango\n✅ Bachata Trio\n✅ Lady & M
 en Styling\n✅ Role Rotation\n\n⭐️ INTERNATIONAL ARTISTS\nA mix of tale
 nt\, energy\, and unforgettable shows:\n✨ Alejandro & Anie\nwww.instag
 ram.com/alehuelin\nwww.instagram.com/aniepena_\n✨ Mijat & Milica\nwww.
 instagram.com/mijatymilica\n✨ Guillermo & Anastasia\nwww.instagram.com
 /guillermoyanastasia.bachata\n✨ Nicky & Daniela\nwww.instagram.com/nic
 kydaniela_official\n✨ Ilhan & Kira\nwww.instagram.com/ilhankira_offici
 al\n✨ Evan & Eugenia\nwww.instagram.com/evaneteugenia\n✨ Eduardo & Nat
 alia\nwww.instagram.com/eduardo_natalia_almadance\n✨ Miguel & Paola\nw
 ww.instagram.com/djmiguelnene\nwww.instagram.com/alexmaracuja.paola\n✨
  Gloria Meres\nwww.instagram.com/gloriameres\n✨ Marcus & Yvy\nwww.inst
 agram.com/marcuspaulodance\n✨ Ricky & Florence\nwww.instagram.com/rick
 yflorence_bachata\n… and many more incredible artists!\n⚡️ BREATHTAKIN
 G SHOWS\n✨ Eduardo & Natalia (Frankfurt)\nwww.instagram.com/alma_dance
 _frankfurt\n✨ Marqcus & Yvy (Zurich)\nwww.instagram.com/dancespotzuric
 h\n✨ Bachata Club Team (Strasbourg)\nwww.instagram.com/bachataclubstra
 sbourg\n✨ Sabor Bachata Team (Stuttgart)\nwww.instagram.com/sabor.acad
 emy\n✨ Nicky & Daniela Team (Mannheim)\nwww.instagram.com/giodancestud
 io\n✨ Son Latino Ladies Team (Karlsruhe)\nwww.instagram.com/sonlatino.
 tanzschule\n✨ Sabor Ladies Team (Stuttgart)\nwww.instagram.com/sabor.a
 cademy\n✨ Las Felinas Ladies Team (Zurich)\nwww.instagram.com/felinasd
 ance\n🎧 TOP DJ LINE-UP\nBringing you the fire on the dance floor:\n🔥 D
 J Ramon\nwww.instagram.com/dj_ramon_bachata\n🔥 DJ Cat\nwww.instagram.c
 om/djcatbachata\n🔥 DJ Nene\nwww.instagram.com/djmiguelnene\n🔥 DJ Papit
 o\nwww.instagram.com/djpapit.o\n🔥 DJ Juan Carlos El Preso\nwww.instagr
 am.com/lyonbachatafestivalfrancia\n… Get ready to dance all night long
 ! 💿💃\n🎤 EXCLUSIVE LIVE CONCERT\nSBF2025 presents… CHRIS PARADISE! “El 
 Rey de la Bachata Sensual”\n🌟 The international Bachata sensation is c
 oming to SBF2025!\n🎵 A once-in-a-lifetime experience! Don’t miss it! 🌟
 🎶\n\nEUROPEAN JACK’N JILL BACHATA CONTEST 2025\nSaturday\, July 12\, 2
 025\nAre YOU the next European Bachata Champion?\n🏅 Big prizes to be a
 nnounced!\n🔗 www.strasbourgbachatafestival.com\n\n🎊 3 EPIC PARTIES – 3
  THEMES – 3 VIBES\nFRIDAY\, July 11 – Opening Night (OPEN AIR)\n📍 Fun 
 Parc Brumath – Theme: WHITE\nSATURDAY\, July 12 – Gala Night\n📍 Espace
  23 Strasbourg – Theme: CHIC/CLASS\nSUNDAY\, July 13 – Wild Closing Pa
 rty (Public Holiday Eve!)\n📍 Delirium Café Strasbourg – Theme: FRENCH 
 🇫🇷\n\nBOOKINGS / PRE-SALES (English and French ticketing)\n🌏 www.stras
 bourgbachatafestival.com\n🇬🇧 http://www.goandance.com/.../strasbourg-b
 achata-festival...\n🇫🇷 my.weezevent.com/SBF2025\n💥 Limited spots! Get 
 your FULL PASS early at a discounted rate!\n💸 EARLY BIRD PRICES (Until
  May 31):\nLeader / Follower: €89\nCouple: €159\nOn-Site Prices:\nLead
 er / Follower: €119\nCouple: €219\nIncludes:\n✔️ All workshops\n✔️ All
  parties & shows\n✔️ Access to the international Bachata competition\n
 ✔️ Personalized photos 📸\n✔️ SBF2025 goodies\n✔️ Entertainment & surpr
 ises 🎁\n📍 LOCATIONS\n📌 July 11: Fun Parc Brumath\n📌 July 12: Espace 23
  Strasbourg\n📌 July 13: Delirium Café Strasbourg\n\nINFO & CONTACT\n📧 
 strasbourgbachatafestival@gmail.com\n🌐 www.strasbourgbachatafestival.c
 om\nFacebook : www.facebook.com/StrasbourgBachataFestival\nTiktok : ww
 w.tiktok.com/@strasbachatafestival\nInstagram : www.instagram.com/stra
 sbourgbachatafestival\nYoutube : www.youtube.com/@StrasbourgBachataFes
 tival\nWhatsApp : chat.whatsapp.com/BpoS306vHE78FvyeGRZK9W\n\nAnmerkun
 g der Redaktion von  regiosalsa.de: Die Links sind nicht aktiviert - d
 ie jeweiligen Adressen sollten abgeschrieben und selbst eingegeben wer
 den. Lediglich die Adresse des Café Delirium ist bei uns hinterlegt un
 d kann per Klick gegoogelt werden - inklusive Anfahrt. Das Event finde
 t - wie oben aufgelistet - in unterschiedlichen Locations bzw. Open Ai
 r statt\, daher gilt die angegebene Link-Adresse nur für die Abschluss
 -Party! Alle Infos inkl. Flyer wurden uns auf Facebook zugestellt. Näh
 ere Details\, Buchungen etc. direkt beim Veranstalter... Euer regiosal
 sa-Team
X-ALT-DESC;FMTTYPE=text/html:<p>LADIES &amp\; GENTLEMEN&#8230\; GET RE
 ADY! 🌟<br>\nThe biggest and most exciting Bachata Festival in the hear
 t of Europe is back: SBF2025! 🔥<br>\n3 unforgettable days of workshops
 \, shows\, parties\, concerts\, competitions and good vibes! 🔥<br>\nWh
 ether you’re a beginner or a pro\, this is YOUR festival!<br>\n💃 DISCO
 VER THE FULL BACHATA UNIVERSE 🕺<br>\nDuring the festival\, dive into e
 very style of Bachata with world-renowned instructors:<br>\n✅ Bachata 
 Sensual<br>\n✅ Dominican Bachata<br>\n✅ Urban Bachata<br>\n✅ Modern Ba
 chata<br>\n✅ Bachata Zouk<br>\n✅ Bachata Tango<br>\n✅ Bachata Trio<br>
 \n✅ Lady &amp\; Men Styling<br>\n✅ Role Rotation</p>\n<p>⭐️ INTERNATIO
 NAL ARTISTS<br>\nA mix of talent\, energy\, and unforgettable shows:<b
 r>\n✨ Alejandro &amp\; Anie<br>\nwww.instagram.com/alehuelin<br>\nwww.
 instagram.com/aniepena_<br>\n✨ Mijat &amp\; Milica<br>\nwww.instagram.
 com/mijatymilica<br>\n✨ Guillermo &amp\; Anastasia<br>\nwww.instagram.
 com/guillermoyanastasia.bachata<br>\n✨ Nicky &amp\; Daniela<br>\nwww.i
 nstagram.com/nickydaniela_official<br>\n✨ Ilhan &amp\; Kira<br>\nwww.i
 nstagram.com/ilhankira_official<br>\n✨ Evan &amp\; Eugenia<br>\nwww.in
 stagram.com/evaneteugenia<br>\n✨ Eduardo &amp\; Natalia<br>\nwww.insta
 gram.com/eduardo_natalia_almadance<br>\n✨ Miguel &amp\; Paola<br>\nwww
 .instagram.com/djmiguelnene<br>\nwww.instagram.com/alexmaracuja.paola<
 br>\n✨ Gloria Meres<br>\nwww.instagram.com/gloriameres<br>\n✨ Marcus &
 amp\; Yvy<br>\nwww.instagram.com/marcuspaulodance<br>\n✨ Ricky &amp\; 
 Florence<br>\nwww.instagram.com/rickyflorence_bachata<br>\n… and many 
 more incredible artists!<br>\n⚡️ BREATHTAKING SHOWS<br>\n✨ Eduardo &am
 p\; Natalia (Frankfurt)<br>\nwww.instagram.com/alma_dance_frankfurt<br
 >\n✨ Marqcus &amp\; Yvy (Zurich)<br>\nwww.instagram.com/dancespotzuric
 h<br>\n✨ Bachata Club Team (Strasbourg)<br>\nwww.instagram.com/bachata
 clubstrasbourg<br>\n✨ Sabor Bachata Team (Stuttgart)<br>\nwww.instagra
 m.com/sabor.academy<br>\n✨ Nicky &amp\; Daniela Team (Mannheim)<br>\nw
 ww.instagram.com/giodancestudio<br>\n✨ Son Latino Ladies Team (Karlsru
 he)<br>\nwww.instagram.com/sonlatino.tanzschule<br>\n✨ Sabor Ladies Te
 am (Stuttgart)<br>\nwww.instagram.com/sabor.academy<br>\n✨ Las Felinas
  Ladies Team (Zurich)<br>\nwww.instagram.com/felinasdance<br>\n🎧 TOP D
 J LINE-UP<br>\nBringing you the fire on the dance floor:<br>\n🔥 DJ Ram
 on<br>\nwww.instagram.com/dj_ramon_bachata<br>\n🔥 DJ Cat<br>\nwww.inst
 agram.com/djcatbachata<br>\n🔥 DJ Nene<br>\nwww.instagram.com/djmigueln
 ene<br>\n🔥 DJ Papito<br>\nwww.instagram.com/djpapit.o<br>\n🔥 DJ Juan C
 arlos El Preso<br>\nwww.instagram.com/lyonbachatafestivalfrancia<br>\n
 … Get ready to dance all night long! 💿💃<br>\n🎤 EXCLUSIVE LIVE CONCERT<
 br>\nSBF2025 presents… CHRIS PARADISE! “El Rey de la Bachata Sensual”<
 br>\n🌟 The international Bachata sensation is coming to SBF2025!<br>\n
 🎵 A once-in-a-lifetime experience! Don’t miss it! 🌟🎶</p>\n<p>EUROPEAN 
 JACK’N JILL BACHATA CONTEST 2025<br>\nSaturday\, July 12\, 2025<br>\nA
 re YOU the next European Bachata Champion?<br>\n🏅 Big prizes to be ann
 ounced!<br>\n🔗 www.strasbourgbachatafestival.com</p>\n<p>🎊 3 EPIC PART
 IES – 3 THEMES – 3 VIBES<br>\nFRIDAY\, July 11 – Opening Night (OPEN A
 IR)<br>\n📍 Fun Parc Brumath – Theme: WHITE<br>\nSATURDAY\, July 12 – G
 ala Night<br>\n📍 Espace 23 Strasbourg – Theme: CHIC/CLASS<br>\nSUNDAY\
 , July 13 – Wild Closing Party (Public Holiday Eve!)<br>\n📍 Delirium C
 afé Strasbourg – Theme: FRENCH 🇫🇷</p>\n<p>BOOKINGS / PRE-SALES (Englis
 h and French ticketing)<br>\n🌏 www.strasbourgbachatafestival.com<br>\n
 🇬🇧 http://www.goandance.com/&#8230\;/strasbourg-bachata-festival&#8230
 \;<br>\n🇫🇷 my.weezevent.com/SBF2025<br>\n💥 Limited spots! Get your FUL
 L PASS early at a discounted rate!<br>\n💸 EARLY BIRD PRICES (Until May
  31):<br>\nLeader / Follower: €89<br>\nCouple: €159<br>\nOn-Site Price
 s:<br>\nLeader / Follower: €119<br>\nCouple: €219<br>\nIncludes:<br>\n
 ✔️ All workshops<br>\n✔️ All parties &amp\; shows<br>\n✔️ Access to th
 e international Bachata competition<br>\n✔️ Personalized photos 📸<br>\
 n✔️ SBF2025 goodies<br>\n✔️ Entertainment &amp\; surprises 🎁<br>\n📍 LO
 CATIONS<br>\n📌 July 11: Fun Parc Brumath<br>\n📌 July 12: Espace 23 Str
 asbourg<br>\n📌 July 13: Delirium Café Strasbourg</p>\n<p>INFO &amp\; C
 ONTACT<br>\n📧 strasbourgbachatafestival@gmail.com<br>\n🌐 www.strasbour
 gbachatafestival.com<br>\nFacebook : www.facebook.com/StrasbourgBachat
 aFestival<br>\nTiktok : www.tiktok.com/@strasbachatafestival<br>\nInst
 agram : www.instagram.com/strasbourgbachatafestival<br>\nYoutube : www
 .youtube.com/@StrasbourgBachataFestival<br>\nWhatsApp : chat.whatsapp.
 com/BpoS306vHE78FvyeGRZK9W</p>\n<p>Anmerkung der Redaktion von  regios
 alsa.de: Die Links sind nicht aktiviert &#8211\; die jeweiligen Adress
 en sollten abgeschrieben und selbst eingegeben werden. Lediglich die A
 dresse des Café Delirium ist bei uns hinterlegt und kann per Klick geg
 oogelt werden &#8211\; inklusive Anfahrt. Das Event findet &#8211\; wi
 e oben aufgelistet &#8211\; in unterschiedlichen Locations bzw. Open A
 ir statt\, daher gilt die angegebene Link-Adresse nur für die Abschlus
 s-Party! Alle Infos inkl. Flyer wurden uns auf Facebook zugestellt. Nä
 here Details\, Buchungen etc. direkt beim Veranstalter&#8230\; Euer re
 giosalsa-Team</p>\n
URL:https://www.regiosalsa.de/events/strasbourg-bachata-festival/?lang
 =de
ATTACH:https://www.regiosalsa.de/events/strasbourg-bachata-festival/?l
 ang=de
ATTACH:https://www.regiosalsa.de/wp-content/uploads/sites/14/2025/05/S
 trassburg_Bachata-Festival_Juli-2025-300x157.jpg
LOCATION:Delirium Café\, 5\, quai de paris\, Strasbourg
END:VEVENT
END:VCALENDAR
